Workbook
Name _Hlk491893501: CD!$A$10
Name _Hlk491893501: LT!$A$8

Sheet LT
A1: Mã | B1: Tên học phần | C1: Số TC | D1: Số tiết | E1: LT | F1: TH | G1: KT | H1: Số TC | I1: TC LT | J1: TC TH | L1: Nội dung
A2: I | B2: Các học phần chung/ đại cương | C2: =SUM(H3:H7) -> 17 | D2: 450 | E2: 288 | F2: 150 | G2: 12
A3: LLCT101 | B3: Chính trị | C3: 6(6,0,12) | D3: =SUM(E3:G3) -> 90 | E3: =I3*15-G3 -> 88 | F3: =J3*30 -> 0 | G3: 2 | H3: =LEFT(C3,1)+0 -> 6 | I3: =MID(C3,3,1)+0 -> 6 | J3: =H3-I3 -> 0
A4: LLCT105 | B4: Pháp luật | C4: 2(2,0,4) | D4: =SUM(E4:G4) -> 30 | E4: =I4*15-G4 -> 28 | F4: =J4*30 -> 0 | G4: 2 | H4: =LEFT(C4,1)+0 -> 2 | I4: =MID(C4,3,1)+0 -> 2 | J4: =H4-I4 -> 0
A5: KHCB105 | B5: Giáo dục thể chất (*) | C5: 2(0,2,1) | D5: =SUM(E5:G5) -> 60 | E5: =I5*15-G5 -> 0 | F5: =J5*30 -> 60 | H5: =LEFT(C5,1)+0 -> 2 | I5: =MID(C5,3,1)+0 -> 0 | J5: =H5-I5 -> 2
A6: KHCB107 | B6: Giáo dục Quốc phòng - An ninh (*) | C6: 4(3,1,7) | D6: =SUM(E6:G6) -> 75 | E6: =I6*15-G6 -> 43 | F6: =J6*30 -> 30 | G6: 2 | H6: =LEFT(C6,1)+0 -> 4 | I6: =MID(C6,3,1)+0 -> 3 | J6: =H6-I6 -> 1
A7: 7 | B7: Kỹ năng mềm (*) | C7: 3(3,0,6) | D7: =SUM(E7:G7) -> 45 | E7: =I7*15-G7 -> 43 | F7: =J7*30 -> 0 | G7: 2 | H7: =LEFT(C7,1)+0 -> 3 | I7: =MID(C7,3,1)+0 -> 3 | J7: =H7-I7 -> 0
A8: II | B8: Các học phần chuyên môn ngành, nghề | C8: =C9+C13+C19 -> 28 | D8: =D9+D13+D19 -> 705 | E8: =E9+E13+E19 -> 117 | F8: =F9+F13+F19 -> 570 | G8: =G9+G13+G19 -> 18
A9: II.1 | B9: Học phần cơ sở | C9: =SUM(H10:H12) -> 8 | D9: =SUM(D10:D12) -> 195 | E9: =SUM(E10:E12) -> 39 | F9: =SUM(F10:F12) -> 150 | G9: =SUM(G10:G12) -> 6
A10: CNTT104 | B10: Cấu trúc dữ liệu & giải thuật | C10: 3(1,2,3) | D10: =SUM(E10:G10) -> 75 | E10: =I10*15-G10 -> 13 | F10: =J10*30 -> 60 | G10: 2 | H10: =LEFT(C10,1)+0 -> 3 | I10: =MID(C10,3,1)+0 -> 1 | J10: =H10-I10 -> 2
A11: CNTT105 | B11: Hệ quản trị cơ sở dữ liệu | C11: 3(1,2,3) | D11: =SUM(E11:G11) -> 75 | E11: =I11*15-G11 -> 13 | F11: =J11*30 -> 60 | G11: 2 | H11: =LEFT(C11,1)+0 -> 3 | I11: =MID(C11,3,1)+0 -> 1 | J11: =H11-I11 -> 2
A12: CNTT106 | B12: Phân tích và thiết kế hệ thống thông tin | C12: 2(1,1,3) | D12: =SUM(E12:G12) -> 45 | E12: =I12*15-G12 -> 13 | F12: =J12*30 -> 30 | G12: 2 | H12: =LEFT(C12,1)+0 -> 2 | I12: =MID(C12,3,1)+0 -> 1 | J12: =H12-I12 -> 1
A13: II.2 | B13: Học phần chuyên môn ngành | C13: =SUM(H14:H18) -> 14 | D13: =SUM(D14:D18) -> 360 | E13: =SUM(E14:E18) -> 52 | F13: =SUM(F14:F18) -> 300 | G13: =SUM(G14:G18) -> 8
A14: CNTT154 | B14: Công nghệ ảo hóa | C14: 3(1,2,4) | D14: =SUM(E14:G14) -> 75 | E14: =I14*15-G14 -> 13 | F14: =J14*30 -> 60 | G14: 2 | H14: =LEFT(C14,1)+0 -> 3 | I14: =MID(C14,3,1)+0 -> 1 | J14: =H14-I14 -> 2 | L14: Vmware
A15: CNTT149 | B15: Cấu hình mạng | C15: 3(1,2,4) | D15: =SUM(E15:G15) -> 75 | E15: =I15*15-G15 -> 13 | F15: =J15*30 -> 60 | G15: 2 | H15: =LEFT(C15,1)+0 -> 3 | I15: =MID(C15,3,1)+0 -> 1 | J15: =H15-I15 -> 2 | L15: Cisco
A16: CNTT151 | B16: Quản trị mạng nâng cao trên Linux | C16: 3(1,2,4) | D16: =SUM(E16:G16) -> 75 | E16: =I16*15-G16 -> 13 | F16: =J16*30 -> 60 | G16: 2 | H16: =LEFT(C16,1)+0 -> 3 | I16: =MID(C16,3,1)+0 -> 1 | J16: =H16-I16 -> 2 | L16: Linux
A17: CNTT157 | B17: Đồ án 2 | C17: 1(0,1,0) | D17: =SUM(E17:G17) -> 30 | E17: =I17*15-G17 -> 0 | F17: =J17*30 -> 30 | H17: =LEFT(C17,1)+0 -> 1 | I17: =MID(C17,3,1)+0 -> 0 | J17: =H17-I17 -> 1
A18: Mới | B18: Quản trị mạng | C18: 4(1,3,5) | D18: =SUM(E18:G18) -> 105 | E18: =I18*15-G18 -> 13 | F18: =J18*30 -> 90 | G18: 2 | H18: =LEFT(C18,1)+0 -> 4 | I18: =MID(C18,3,1)+0 -> 1 | J18: =H18-I18 -> 3 | L18: Windows
A19: II.3 | B19: Học phần tự chọn | C19: =SUM(H20:H21) -> 6 | D19: =SUM(D20:D21) -> 150 | E19: =SUM(E20:E21) -> 26 | F19: =SUM(F20:F21) -> 120 | G19: =SUM(G20:G21) -> 4
A20: CNTT142 | B20: Thiết kế Web | C20: 4(1,3,7) | D20: =SUM(E20:G20) -> 105 | E20: =I20*15-G20 -> 13 | F20: =J20*30 -> 90 | G20: 2 | H20: =LEFT(C20,1)+0 -> 4 | I20: =MID(C20,3,1)+0 -> 1 | J20: =H20-I20 -> 3
A21: CNTT155 | B21: Kỹ thuật truyền thông và số liệu | C21: 2(1,1,3) | D21: =SUM(E21:G21) -> 45 | E21: =I21*15-G21 -> 13 | F21: =J21*30 -> 30 | G21: 2 | H21: =LEFT(C21,1)+0 -> 2 | I21: =MID(C21,3,1)+0 -> 1 | J21: =H21-I21 -> 1 | L21: Tổng đài
B22: Tổng cộng | C22: =C2+C8 -> 45 | D22: =D2+D8 -> 1155 | E22: =E2+E8 -> 405 | F22: =F2+F8 -> 720 | G22: =G2+G8 -> 30
H23: =SUM(H3:H21) -> 45 | I23: =SUM(I3:I21) -> 23 | J23: =SUM(J3:J21) -> 22 | L23: tỷ lệ: | M23: =J23/H23 -> 0.48888889

Sheet TC
A1: Mã | B1: Tên học phần | C1: Số TC | D1: Số tiết | E1: LT | F1: TH | G1: KT | H1: Số TC
A2: I | B2: Các học phần chung/ đại cương | C2: =SUM(H3:H9) -> 17 | D2: =SUM(D3:D9) -> 315 | E2: =SUM(E3:E9) -> 183 | F2: =SUM(F3:F9) -> 120 | G2: =SUM(G3:G9) -> 12
A3: LLCT202 | B3: Chính trị | C3: 2(2,0,4) | D3: 30 | E3: 28 | G3: 2 | H3: =LEFT(C3)+0 -> 2
A4: LLCT206 | B4: Pháp luật | C4: 1(1,0,2) | D4: 15 | E4: 13 | G4: 2 | H4: =LEFT(C4)+0 -> 1
A5: KHCB205 | B5: Giáo dục thể chất (*) | C5: 1(0,1,1) | D5: 30 | F5: 30 | H5: =LEFT(C5)+0 -> 1
A6: KHCB207 | B6: Giáo dục Quốc phòng - An ninh (*) | C6: 2(1,1,3) | D6: 45 | E6: 13 | F6: 30 | G6: 2 | H6: =LEFT(C6)+0 -> 2
A7: 5 | B7: Tin học (*) | C7: 4(2,2,5) | D7: 90 | E7: 28 | F7: 60 | G7: 2 | H7: =LEFT(C7)+0 -> 4
A8: 6 | B8: Ngoại ngữ (*) | C8: 4(4,0,8) | D8: 60 | E8: 58 | G8: 2 | H8: =LEFT(C8)+0 -> 4
A9: 7 | B9: Kỹ năng mềm (*) | C9: 3(3,0,6) | D9: 45 | E9: 43 | G9: 2 | H9: =LEFT(C9)+0 -> 3
A10: II | B10: Các học phần chuyên môn ngành, nghề | C10: 38 | D10: =D11+D16+D27 -> 990 | E10: =E11+E16+E27 -> 229 | F10: =F11+F16+F27 -> 735 | G10: =G11+G16+G27 -> 26
A11: II.1 | B11: Học phần cơ sở | C11: =SUM(H12:H15) -> 10 | D11: =SUM(D12:D15) -> 225 | E11: =SUM(E12:E15) -> 67 | F11: =SUM(F12:F15) -> 150 | G11: =SUM(G12:G15) -> 8
A12: CNTT202 | B12: Kỹ thuật lập trình | C12: 4(1,3,4) | D12: 105 | E12: 13 | F12: 90 | G12: 2 | H12: =LEFT(C12)+0 -> 4
A13: CNTT203 | B13: Cơ sở dữ liệu | C13: 2(1,1,3) | D13: 45 | E13: 13 | F13: 30 | G13: 2 | H13: =LEFT(C13)+0 -> 2
A14: CNTT204 | B14: Anh văn chuyên ngành CNTT | C14: 2(2,0,4) | D14: 30 | E14: 28 | G14: 2 | H14: =LEFT(C14)+0 -> 2
A15: CNTT205 | B15: SQL Server | C15: 2(1,1,3) | D15: 45 | E15: 13 | F15: 30 | G15: 2 | H15: =LEFT(C15)+0 -> 2
A16: II.2 | B16: Học phần chuyên môn ngành, nghề | C16: =SUM(H17:H26) -> 25 | D16: =SUM(D17:D26) -> 705 | E16: =SUM(E17:E26) -> 134 | F16: =SUM(F17:F26) -> 555 | G16: =SUM(G17:G26) -> 16
A17: CNTT240 | B17: Phần cứng máy tính | C17: 3(2,1,5) | D17: 60 | E17: 28 | F17: 30 | G17: 2 | H17: =LEFT(C17)+0 -> 3
A18: CNTT241 | B18: Mạng máy tính và quản trị mạng | C18: 3(2,1,5) | D18: 60 | E18: 28 | F18: 30 | G18: 2 | H18: =LEFT(C18)+0 -> 3
A19: CNTT242 | B19: Thiết lập hệ thống mạng | C19: 2(1,1,3) | D19: 45 | E19: 13 | F19: 30 | G19: 2 | H19: =LEFT(C19)+0 -> 2
A20: CNTT246 | B20: Quản trị mạng trên Linux | C20: 2(1,1,3) | D20: 45 | E20: 13 | F20: 30 | G20: 2 | H20: =LEFT(C20)+0 -> 2
A21: CNTT245 | B21: Thiết bị mạng | C21: 2(1,1,3) | D21: 45 | E21: 13 | F21: 30 | G21: 2 | H21: =LEFT(C21)+0 -> 2
A22: CNTT248 | B22: An toàn hệ thống mạng máy tính | C22: 2(1,1,3) | D22: 45 | E22: 13 | F22: 30 | G22: 2 | H22: =LEFT(C22)+0 -> 2
A23: CNTT243 | B23: Mạng nâng cao | C23: 2(1,1,3) | D23: 45 | E23: 13 | F23: 30 | G23: 2 | H23: =LEFT(C23)+0 -> 2
A24: CNTT247 | B24: Bảo mật hệ thống thông tin | C24: 2(1,1,3) | D24: 45 | E24: 13 | F24: 30 | G24: 2 | H24: =LEFT(C24)+0 -> 2
A25: CNTT249 | B25: Đồ án 1 | C25: 1(0,1,0) | D25: 45 | F25: 45 | H25: =LEFT(C25)+0 -> 1
A26: CNTT250 | B26: Thực tập tốt nghiệp | C26: 6(0,6,0) | D26: 270 | F26: 270 | H26: =LEFT(C26)+0 -> 6
A27: II.3 | B27: Học phần tự chọn | C27: =SUM(H28) -> 3 | D27: 60 | E27: 28 | F27: 30 | G27: 2
A28: CNTT244 | B28: Quản trị hệ thống mail server | C28: 3(2,1,5) | D28: 60 | E28: 28 | F28: 30 | G28: 2 | H28: =LEFT(C28)+0 -> 3
B29: Tổng cộng | C29: =C2+C10 -> 55 | D29: =D2+D10 -> 1305 | E29: =E2+E10 -> 412 | F29: =F2+F10 -> 855 | G29: =G2+G10 -> 38

Sheet CD
A1: Mã | B1: Tên học phần | C1: Số TC | D1: Số tiết | E1: LT | F1: TH | G1: KT | H1: Số TC | I1: Môn chưa học | J1: Số TC
A2: I | B2: Các học phần chung/ đại cương | C2: =SUM(H3:H9) -> 25 | D2: 450 | E2: 288 | F2: 150 | G2: 12
A3: LLCT101 | B3: Chính trị | C3: 6(6,0,12) | D3: 90 | E3: 88 | G3: 2 | H3: =LEFT(C3)+0 -> 6 | I3: =B3 -> Chính trị | J3: =H3 -> 6 | K3: hk1
A4: LLCT105 | B4: Pháp luật | C4: 2(2,0,4) | D4: 30 | E4: 28 | G4: 2 | H4: =LEFT(C4)+0 -> 2 | I4: =B4 -> Pháp luật | J4: =H4 -> 2 | K4: hk2
A5: KHCB105 | B5: Giáo dục thể chất (*) | C5: 2(0,2,1) | D5: 60 | F5: 60 | H5: =LEFT(C5)+0 -> 2 | I5: =B5 -> Giáo dục thể chất (*) | J5: =H5 -> 2 | K5: hk1
A6: KHCB107 | B6: Giáo dục Quốc phòng - An ninh (*) | C6: 4(3,1,7) | D6: 75 | E6: 43 | F6: 30 | G6: 2 | H6: =LEFT(C6)+0 -> 4 | I6: =B6 -> Giáo dục Quốc phòng - An ninh (*) | J6: =H6 -> 4 | K6: hk2
A7: 5 | B7: Tin học (*) | C7: 4(2,2,5) | D7: 90 | E7: 28 | F7: 60 | G7: 2 | H7: =LEFT(C7)+0 -> 4 | I7: =IF(IFERROR(MATCH(B7,TC!$B$1:$B$29,0),FALSE),"",B7) | J7: =IF(I7<>"",H7,"")
A8: 6 | B8: Ngoại ngữ (*) | C8: 4(4,0,8) | D8: 60 | E8: 58 | G8: 2 | H8: =LEFT(C8)+0 -> 4 | I8: =IF(IFERROR(MATCH(B8,TC!$B$1:$B$29,0),FALSE),"",B8) | J8: =IF(I8<>"",H8,"")
A9: 7 | B9: Kỹ năng mềm (*) | C9: 3(3,0,6) | D9: 45 | E9: 43 | G9: 2 | H9: =LEFT(C9)+0 -> 3 | I9: =IF(IFERROR(MATCH(B9,TC!$B$1:$B$29,0),FALSE),"",B9) | J9: 3 | K9: không phân
A10: II | B10: Các học phần chuyên môn ngành, nghề | C10: =C11+C18+C33 -> 65 | D10: =D11+D18+D33 -> 1545 | E10: =E11+E18+E33 -> 485 | F10: =F11+F18+F33 -> 1020 | G10: =G11+G18+G33 -> 40 | J10: =IF(I10<>"",H10,"")
A11: II.1 | B11: Học phần cơ sở | C11: =SUM(H12:H17) -> 16 | D11: =SUM(D12:D17) -> 360 | E11: =SUM(E12:E17) -> 108 | F11: =SUM(F12:F17) -> 240 | G11: =SUM(G12:G17) -> 12 | J11: =IF(I11<>"",H11,"")
A12: CNTT102 | B12: Kỹ thuật lập trình | C12: 4(2,2,5) | D12: 90 | E12: 28 | F12: 60 | G12: 2 | H12: =LEFT(C12)+0 -> 4 | I12: =IF(IFERROR(MATCH(B12,TC!$B$1:$B$29,0),FALSE),"",B12) | J12: =IF(I12<>"",H12,"")
A13: CNTT103 | B13: Cơ sở dữ liệu | C13: 2(1,1,3) | D13: 45 | E13: 13 | F13: 30 | G13: 2 | H13: =LEFT(C13)+0 -> 2 | I13: =IF(IFERROR(MATCH(B13,TC!$B$1:$B$29,0),FALSE),"",B13) | J13: =IF(I13<>"",H13,"")
A14: CNTT104 | B14: Cấu trúc dữ liệu & giải thuật | C14: 3(1,2,3) | D14: 75 | E14: 13 | F14: 60 | G14: 2 | H14: =LEFT(C14)+0 -> 3 | I14: =IF(IFERROR(MATCH(B14,TC!$B$1:$B$29,0),FALSE),"",B14) -> Cấu trúc dữ liệu & giải thuật | J14: =IF(I14<>"",H14,"") -> 3 | K14: hk1
A15: CNTT105 | B15: Hệ quản trị cơ sở dữ liệu | C15: 3(1,2,3) | D15: 75 | E15: 13 | F15: 60 | G15: 2 | H15: =LEFT(C15)+0 -> 3 | I15: =IF(IFERROR(MATCH(B15,TC!$B$1:$B$29,0),FALSE),"",B15) -> Hệ quản trị cơ sở dữ liệu | J15: =IF(I15<>"",H15,"") -> 3 | K15: hk2
A16: CNTT106 | B16: Phân tích và thiết kế hệ thống thông tin | C16: 2(1,1,3) | D16: 45 | E16: 13 | F16: 30 | G16: 2 | H16: =LEFT(C16)+0 -> 2 | I16: =IF(IFERROR(MATCH(B16,TC!$B$1:$B$29,0),FALSE),"",B16) -> Phân tích và thiết kế hệ thống thông tin | J16: =IF(I16<>"",H16,"") -> 2 | K16: hk2
A17: CNTT107 | B17: Anh văn chuyên ngành CNTT | C17: 2(2,0,4) | D17: 30 | E17: 28 | G17: 2 | H17: =LEFT(C17)+0 -> 2 | I17: =IF(IFERROR(MATCH(B17,TC!$B$1:$B$29,0),FALSE),"",B17) | J17: =IF(I17<>"",H17,"")
A18: II.2 | B18: Học phần chuyên môn ngành | C18: =SUM(H19:H32) -> 41 | D18: =SUM(D19:D32) -> 1020 | E18: =SUM(E19:E32) -> 308 | F18: =SUM(F19:F32) -> 690 | G18: =SUM(G19:G32) -> 22 | J18: =IF(I18<>"",H18,"")
A19: CNTT143 | B19: Phần cứng máy tính | C19: 3(2,1,5) | D19: 60 | E19: 28 | F19: 30 | G19: 2 | H19: =LEFT(C19)+0 -> 3 | I19: =IF(IFERROR(MATCH(B19,TC!$B$1:$B$29,0),FALSE),"",B19) | J19: =IF(I19<>"",H19,"")
A20: CNTT144 | B20: Mạng máy tính và quản trị mạng | C20: 3(2,1,5) | D20: 60 | E20: 28 | F20: 30 | G20: 2 | H20: =LEFT(C20)+0 -> 3 | I20: =IF(IFERROR(MATCH(B20,TC!$B$1:$B$29,0),FALSE),"",B20) | J20: =IF(I20<>"",H20,"")
A21: CNTT145 | B21: Thiết lập hệ thống mạng | C21: 4(3,1,7) | D21: 75 | E21: 43 | F21: 30 | G21: 2 | H21: =LEFT(C21)+0 -> 4 | I21: =IF(IFERROR(MATCH(B21,TC!$B$1:$B$29,0),FALSE),"",B21) | J21: =IF(I21<>"",H21,"")
A22: CNTT146 | B22: Mạng nâng cao | C22: 3(2,1,5) | D22: 60 | E22: 28 | F22: 30 | G22: 2 | H22: =LEFT(C22)+0 -> 3 | I22: =IF(IFERROR(MATCH(B22,TC!$B$1:$B$29,0),FALSE),"",B22) | J22: =IF(I22<>"",H22,"")
A23: CNTT148 | B23: Thiết bị mạng | C23: 3(2,1,5) | D23: 60 | E23: 28 | F23: 30 | G23: 2 | H23: =LEFT(C23)+0 -> 3 | I23: =IF(IFERROR(MATCH(B23,TC!$B$1:$B$29,0),FALSE),"",B23) | J23: =IF(I23<>"",H23,"")
A24: CNTT150 | B24: Quản trị mạng trên Linux | C24: 3(2,1,5) | D24: 60 | E24: 28 | F24: 30 | G24: 2 | H24: =LEFT(C24)+0 -> 3 | I24: =IF(IFERROR(MATCH(B24,TC!$B$1:$B$29,0),FALSE),"",B24) | J24: =IF(I24<>"",H24,"")
A25: CNTT154 | B25: Công nghệ ảo hóa | C25: 3(2,1,5) | D25: 60 | E25: 28 | F25: 30 | G25: 2 | H25: =LEFT(C25)+0 -> 3 | I25: =IF(IFERROR(MATCH(B25,TC!$B$1:$B$29,0),FALSE),"",B25) -> Công nghệ ảo hóa | J25: =IF(I25<>"",H25,"") -> 3 | K25: phụ
A26: CNTT149 | B26: Cấu hình mạng | C26: 3(2,1,5) | D26: 60 | E26: 28 | F26: 30 | G26: 2 | H26: =LEFT(C26)+0 -> 3 | I26: =IF(IFERROR(MATCH(B26,TC!$B$1:$B$29,0),FALSE),"",B26) -> Cấu hình mạng | J26: =IF(I26<>"",H26,"") -> 3 | K26: hk2
A27: CNTT153 | B27: An toàn hệ thống mạng máy tính | C27: 2(1,1,3) | D27: 45 | E27: 13 | F27: 30 | G27: 2 | H27: =LEFT(C27)+0 -> 2 | I27: =IF(IFERROR(MATCH(B27,TC!$B$1:$B$29,0),FALSE),"",B27) | J27: =IF(I27<>"",H27,"")
A28: CNTT151 | B28: Quản trị mạng nâng cao trên Linux | C28: 3(2,1,5) | D28: 60 | E28: 28 | F28: 30 | G28: 2 | H28: =LEFT(C28)+0 -> 3 | I28: =IF(IFERROR(MATCH(B28,TC!$B$1:$B$29,0),FALSE),"",B28) -> Quản trị mạng nâng cao trên Linux | J28: =IF(I28<>"",H28,"") -> 3 | K28: phụ
A29: CNTT147 | B29: Quản trị hệ thống mail server | C29: 3(2,1,5) | D29: 60 | E29: 28 | F29: 30 | G29: 2 | H29: =LEFT(C29)+0 -> 3 | I29: =IF(IFERROR(MATCH(B29,TC!$B$1:$B$29,0),FALSE),"",B29) | J29: =IF(I29<>"",H29,"")
A30: CNTT156 | B30: Đồ án 1 | C30: 1(0,1,0) | D30: 45 | F30: 45 | H30: =LEFT(C30)+0 -> 1 | I30: =IF(IFERROR(MATCH(B30,TC!$B$1:$B$29,0),FALSE),"",B30) | J30: =IF(I30<>"",H30,"")
A31: CNTT157 | B31: Đồ án 2 | C31: 1(0,1,0) | D31: 45 | F31: 45 | H31: =LEFT(C31)+0 -> 1 | I31: =IF(IFERROR(MATCH(B31,TC!$B$1:$B$29,0),FALSE),"",B31) -> Đồ án 2 | J31: =IF(I31<>"",H31,"") -> 1 | K31: phụ
A32: CNTT158 | B32: Thực tập tốt nghiệp | C32: 6(0,6,0) | D32: 270 | F32: 270 | H32: =LEFT(C32)+0 -> 6 | I32: =IF(IFERROR(MATCH(B32,TC!$B$1:$B$29,0),FALSE),"",B32) | J32: =IF(I32<>"",H32,"")
A33: II.3 | B33: Học phần tự chọn | C33: =SUM(H34:H36) -> 8 | D33: =SUM(D34:D36) -> 165 | E33: =SUM(E34:E36) -> 69 | F33: =SUM(F34:F36) -> 90 | G33: =SUM(G34:G36) -> 6 | J33: =IF(I33<>"",H33,"")
A34: CNTT152 | B34: Bảo mật hệ thống thông tin | C34: 2(1,1,3) | D34: 45 | E34: 13 | F34: 30 | G34: 2 | H34: =LEFT(C34)+0 -> 2 | I34: =IF(IFERROR(MATCH(B34,TC!$B$1:$B$29,0),FALSE),"",B34) | J34: =IF(I34<>"",H34,"")
A35: CNTT142 | B35: Thiết kế Web | C35: 4(3,1,7) | D35: 75 | E35: 43 | F35: 30 | G35: 2 | H35: =LEFT(C35)+0 -> 4 | I35: =IF(IFERROR(MATCH(B35,TC!$B$1:$B$29,0),FALSE),"",B35) -> Thiết kế Web | J35: =IF(I35<>"",H35,"") -> 4 | K35: phụ
A36: CNTT155 | B36: Kỹ thuật truyền thông và số liệu | C36: 2(1,1,3) | D36: 45 | E36: 13 | F36: 30 | G36: 2 | H36: =LEFT(C36)+0 -> 2 | I36: =IF(IFERROR(MATCH(B36,TC!$B$1:$B$29,0),FALSE),"",B36) -> Kỹ thuật truyền thông và số liệu | J36: =IF(I36<>"",H36,"") -> 2 | K36: hk2
B37: Tổng cộng | C37: =C2+C10 -> 90 | D37: =D2+D10 -> 1995 | E37: =E2+E10 -> 773 | F37: =F2+F10 -> 1170 | G37: =G2+G10 -> 52 | L37: Quy định | M37: TC Thiếu | N37: Môn thiếu
J38: Tổng tín chỉ: | K38: =SUM(J3:J36) -> 41 | L38: 45 | M38: =L38-K38 -> 4 | N38: =M38/3 -> 1.3333333
J39: Số môn: | K39: =COUNT(J3:J36) -> 14
G40: Thêm môn | H40: =K39+1 -> 15 | I40: Quản trị mạng | J40: 4 | K40: hk1
...
